BEGIN:VCALENDAR
VERSION:2.0
PRODID:-//Canadian Shield - ECPv6.15.20//NONSGML v1.0//EN
CALSCALE:GREGORIAN
METHOD:PUBLISH
X-WR-CALNAME:Canadian Shield
X-ORIGINAL-URL:https://canadianshieldrc.ca
X-WR-CALDESC:Events for Canadian Shield
REFRESH-INTERVAL;VALUE=DURATION:PT1H
X-Robots-Tag:noindex
X-PUBLISHED-TTL:PT1H
BEGIN:VTIMEZONE
TZID:America/Thunder_Bay
BEGIN:DAYLIGHT
TZOFFSETFROM:-0500
TZOFFSETTO:-0400
TZNAME:EDT
DTSTART:20250309T070000
END:DAYLIGHT
BEGIN:STANDARD
TZOFFSETFROM:-0400
TZOFFSETTO:-0500
TZNAME:EST
DTSTART:20251102T060000
END:STANDARD
BEGIN:DAYLIGHT
TZOFFSETFROM:-0500
TZOFFSETTO:-0400
TZNAME:EDT
DTSTART:20260308T070000
END:DAYLIGHT
BEGIN:STANDARD
TZOFFSETFROM:-0400
TZOFFSETTO:-0500
TZNAME:EST
DTSTART:20261101T060000
END:STANDARD
BEGIN:DAYLIGHT
TZOFFSETFROM:-0500
TZOFFSETTO:-0400
TZNAME:EDT
DTSTART:20270314T070000
END:DAYLIGHT
BEGIN:STANDARD
TZOFFSETFROM:-0400
TZOFFSETTO:-0500
TZNAME:EST
DTSTART:20271107T060000
END:STANDARD
END:VTIMEZONE
BEGIN:VEVENT
DTSTART;TZID=America/Thunder_Bay:20260418T150000
DTEND;TZID=America/Thunder_Bay:20260418T200000
DTSTAMP:20260420T044331
CREATED:20260413T183349Z
LAST-MODIFIED:20260413T183349Z
UID:227487-1776524400-1776542400@canadianshieldrc.ca
SUMMARY:Camp McDougall Spring Shindig
DESCRIPTION:SPRING SHINDIG ROAST BEEF DINNER! \n🌸 Join Us for the Spring Shindig Roast Beef Dinner! 🍽️🎉 \nYou’re invited to an evening of great food\, great company\, and a great cause. \nJoin us for the Spring Shindig Roast Beef Dinner\, where you’ll enjoy a hearty meal while supporting Camp McDougall’s outdoor programs—programs that help children build self-esteem\, acceptance\, and friendship in a safe\, Christian community. \nWhat’s on the menu? \n🍖 A delicious Roast Beef Dinner \n🍰 Dessert Auction (hosted by Mike Peever) \n🎁 Silent Auction with great items to bid on \nEvery ticket and every bid helps create unforgettable camp experiences for kids who need them most. \nCome hungry. \nBring a friend. \nLeave knowing you made a difference. \nCan’t make it … grab a support ticket! \nhttps://www.zeffy.com/en-CA/ticketing/spring-shindig-roast-beef-dinner
URL:https://canadianshieldrc.ca/event/camp-mcdougall-spring-shindig/
CATEGORIES:Community Events
ATTACH;FMTTYPE=image/jpeg:https://canadianshieldrc.ca/wp-content/uploads/2026/04/shindig.jpg
ORGANIZER;CN="Camp McDougall":MAILTO:campmcdougall@gmail.com
END:VEVENT
END:VCALENDAR